BEGIN:VCALENDAR
VERSION:2.0
PRODID:-//Centro de Investigação do ISLA-IPGT - ECPv6.15.20//NONSGML v1.0//EN
CALSCALE:GREGORIAN
METHOD:PUBLISH
X-WR-CALNAME:Centro de Investigação do ISLA-IPGT
X-ORIGINAL-URL:https://investigacao.islagaia.pt
X-WR-CALDESC:Eventos para Centro de Investigação do ISLA-IPGT
REFRESH-INTERVAL;VALUE=DURATION:PT1H
X-Robots-Tag:noindex
X-PUBLISHED-TTL:PT1H
BEGIN:VTIMEZONE
TZID:UTC
BEGIN:STANDARD
TZOFFSETFROM:+0000
TZOFFSETTO:+0000
TZNAME:UTC
DTSTART:20210101T000000
END:STANDARD
END:VTIMEZONE
BEGIN:VEVENT
DTSTART;TZID=UTC:20220929T080000
DTEND;TZID=UTC:20230124T170000
DTSTAMP:20260420T233001
CREATED:20221007T161643Z
LAST-MODIFIED:20221007T162435Z
UID:9355-1664438400-1674579600@investigacao.islagaia.pt
SUMMARY:Advanced Digital Skills
DESCRIPTION:Área: Competências Digitais | Data Fim de Candidaturas: 24 de Jan. de 2023 \n  \nO objetivo primário da ação é aumentar e melhorar a oferta de programas de educação e\no número de estudantes especializados em áreas-chave de capacidade. A oferta será\nalargada em termos de distribuição geográfica (incluindo regiões ultraperiféricas e\noutras regiões desfavorecidas)\, número de oportunidades e relevância de acordo com os\núltimos desenvolvimentos tecnológicos. \nAs ações visam também apoiar a criação de cursos interdisciplinares que possam garantir aos profissionais competências digitais avançadas relevantes e aumentar a diversidade entre estudantes e futuros peritos digitais. \nPara mais informações sobre o projeto\, clicar em Saber Mais
URL:https://investigacao.islagaia.pt/event/advanced-digital-skills/
CATEGORIES:Calls (Projetos)
END:VEVENT
BEGIN:VEVENT
DTSTART;TZID=UTC:20221117T080000
DTEND;TZID=UTC:20230228T235900
DTSTAMP:20260420T233001
CREATED:20221108T162708Z
LAST-MODIFIED:20221108T162927Z
UID:12167-1668672000-1677628740@investigacao.islagaia.pt
SUMMARY:EIT HEI Initiative
DESCRIPTION:Área: Tecnologia | Data Fim de Candidaturas: 28 de Fevereiro 2023 \n  \nPodem participar nesta Call-3 novas organizações e parceiros das edições anteriores. A Call selecionará até 16 projetos\, que receberão um máximo de 750.000 euros: até 350.000 euros para a fase 1 (maio a dezembro de 2023) e até 400.000 euros para a fase 2 (janeiro a julho de 2024). \nOs consórcios selecionados deverão demonstrar capacidades de inovação por meio da integração de atividades de promoção de talentos de Deep Tech. Deverão\, também\, demonstrar como é que as suas aplicações se alinham com a Deep Tech Talent Initiative e contribuem para a inovação tecnológica. \nPara informação detalhada e atualizada clique aqui.
URL:https://investigacao.islagaia.pt/event/erasmus-charter-for-higher-education-2022-2/
CATEGORIES:Calls (Projetos)
END:VEVENT
BEGIN:VEVENT
DTSTART;TZID=UTC:20230119T170000
DTEND;TZID=UTC:20230119T183000
DTSTAMP:20260420T233001
CREATED:20230118T104302Z
LAST-MODIFIED:20230118T104302Z
UID:13638-1674147600-1674153000@investigacao.islagaia.pt
SUMMARY:Webinar: "Create your free business plan now with Kabada"
DESCRIPTION:No próximo dia 19 de janeiro\, às 17h (UTC+0)\, realizar-se-á\, a Webinar intitulada “Create your free business plan now with Kabada”. \nA transformação digital da educação está a digitalizar o processo que aprimora a experiência de aprendizagem e ensino dos alunos. O empreendedorismo tem beneficiado disso de várias formas\, garantindo a acessibilidade a todos os utilizadores que queiram potenciar a sua experiência empreendedora. \nA KABADA é o exemplo perfeito: uma plataforma digital baseada em Inteligência Artificial que ajudará milhares de jovens empreendedores a criar os seus planos de negócios gratuitamente. \nEsta ferramenta será apresentada neste Webinar. \nPara consultar a agenda deste evento clique aqui. \nPara se inscrever clique aqui. \nPara consultar informação detalhada e atualizada clique aqui.
URL:https://investigacao.islagaia.pt/event/webinar-create-your-free-business-plan-now-with-kabada/
LOCATION:Online
CATEGORIES:Eventos
ATTACH;FMTTYPE=image/png:https://investigacao.islagaia.pt/wp-content/uploads/2023/01/ImagemWebinarKabada.png
END:VEVENT
END:VCALENDAR