BEGIN:VCALENDAR
VERSION:2.0
PRODID:-//Centro de Investigação do ISLA-IPGT - ECPv6.15.20//NONSGML v1.0//EN
CALSCALE:GREGORIAN
METHOD:PUBLISH
X-WR-CALNAME:Centro de Investigação do ISLA-IPGT
X-ORIGINAL-URL:https://investigacao.islagaia.pt
X-WR-CALDESC:Eventos para Centro de Investigação do ISLA-IPGT
REFRESH-INTERVAL;VALUE=DURATION:PT1H
X-Robots-Tag:noindex
X-PUBLISHED-TTL:PT1H
BEGIN:VTIMEZONE
TZID:UTC
BEGIN:STANDARD
TZOFFSETFROM:+0000
TZOFFSETTO:+0000
TZNAME:UTC
DTSTART:20210101T000000
END:STANDARD
END:VTIMEZONE
BEGIN:VEVENT
DTSTART;TZID=UTC:20221117T080000
DTEND;TZID=UTC:20230228T235900
DTSTAMP:20260420T214108
CREATED:20221108T162708Z
LAST-MODIFIED:20221108T162927Z
UID:12167-1668672000-1677628740@investigacao.islagaia.pt
SUMMARY:EIT HEI Initiative
DESCRIPTION:Área: Tecnologia | Data Fim de Candidaturas: 28 de Fevereiro 2023 \n  \nPodem participar nesta Call-3 novas organizações e parceiros das edições anteriores. A Call selecionará até 16 projetos\, que receberão um máximo de 750.000 euros: até 350.000 euros para a fase 1 (maio a dezembro de 2023) e até 400.000 euros para a fase 2 (janeiro a julho de 2024). \nOs consórcios selecionados deverão demonstrar capacidades de inovação por meio da integração de atividades de promoção de talentos de Deep Tech. Deverão\, também\, demonstrar como é que as suas aplicações se alinham com a Deep Tech Talent Initiative e contribuem para a inovação tecnológica. \nPara informação detalhada e atualizada clique aqui.
URL:https://investigacao.islagaia.pt/event/erasmus-charter-for-higher-education-2022-2/
CATEGORIES:Calls (Projetos)
END:VEVENT
BEGIN:VEVENT
DTSTART;TZID=UTC:20230223T080000
DTEND;TZID=UTC:20230627T170000
DTSTAMP:20260420T214108
CREATED:20221007T163801Z
LAST-MODIFIED:20221023T074411Z
UID:9366-1677139200-1687885200@investigacao.islagaia.pt
SUMMARY:Erasmus Charter for Higher Education 2022
DESCRIPTION:Área: Erasmus | Data Fim de Candidaturas: 27 de Abril de 2023 \n  \nEsta Call visa a acreditação de instituições de ensino superior reconhecidas localizadas\nem países elegíveis\, que têm capacidade operacional para participar em atividades do\nPrograma Erasmus+\, como a mobilidade de aprendizagem de indivíduos e/ou cooperação\npara a inovação e boas práticas. \nPara mais informações sobre o projeto\, clicar em Saber Mais
URL:https://investigacao.islagaia.pt/event/erasmus-charter-for-higher-education-2022/
CATEGORIES:Calls (Projetos)
END:VEVENT
BEGIN:VEVENT
DTSTART;TZID=UTC:20230228T000000
DTEND;TZID=UTC:20230228T235900
DTSTAMP:20260420T214108
CREATED:20221215T151806Z
LAST-MODIFIED:20221216T171455Z
UID:13203-1677542400-1677628740@investigacao.islagaia.pt
SUMMARY:Prémio Impacto da Ciência na Economia e na Sociedade em Portugal
DESCRIPTION:O Prémio Impacto da Ciência na Economia e na Sociedade em Portugal: Investimento\, emprego científico e valorização do conhecimento tem como objetivo fomentar a elaboração de artigos científicos que contribuam para a identificação de problemas e para a implementação de soluções de política pública em Portugal. \n  \nCOMO CONCORRER:\nO concurso tem duas fases\, que são obrigatórias: \n1ª fase – envio de proposta ou versão preliminar de artigo;\n2ª fase – submissão do artigo \nNa primeira fase\, as propostas ou versão preliminar de artigos devem ser enviadas para estudos@gee.gov.pt. Os autores cujos trabalhos preenchem as condições exigidas serão informados\, no prazo de 10 dias úteis\, do apuramento para a segunda fase. \nNa segunda fase\, os artigos pré-selecionados serão sujeitos a processo de avaliação por uma Comissão Científica\, que considerará a sua qualidade científica e o seu contributo para soluções de política pública em Portugal. A decisão final sobre os artigos será comunicada aos seus autores. \n  \nFINANCIAMENTO:\nOs autores dos 4 melhores artigos selecionados pela Comissão Científica receberão um prémio de 3.000 euros (por artigo)\, sob condição de participarem e apresentarem os artigos no evento Ciência 2023\, em julho de 2023. A Comissão Científica poderá decidir não atribuir prémios se os artigos não revelarem a qualidade mínima exigida. Destas decisões não há lugar a qualquer recurso. \n  \nPERÍODO DE CANDIDATURAS:\nAs propostas devem ser apresentadas até dia 28 de fevereiro de 2023. \nOs artigos devem ser submetidos até dia 15 de maio de 2023. \n  \nPara informação detalhada e atualizada clique aqui.
URL:https://investigacao.islagaia.pt/event/premio-impacto-da-ciencia-na-economia-e-na-sociedade-em-portugal/
CATEGORIES:Eventos
ATTACH;FMTTYPE=image/png:https://investigacao.islagaia.pt/wp-content/uploads/2022/12/FCT_Premio.png
END:VEVENT
END:VCALENDAR