BEGIN:VCALENDAR
VERSION:2.0
PRODID:-//Centro de Investigação do ISLA-IPGT - ECPv6.15.20//NONSGML v1.0//EN
CALSCALE:GREGORIAN
METHOD:PUBLISH
X-ORIGINAL-URL:https://investigacao.islagaia.pt
X-WR-CALDESC:Eventos para Centro de Investigação do ISLA-IPGT
REFRESH-INTERVAL;VALUE=DURATION:PT1H
X-Robots-Tag:noindex
X-PUBLISHED-TTL:PT1H
BEGIN:VTIMEZONE
TZID:UTC
BEGIN:STANDARD
TZOFFSETFROM:+0000
TZOFFSETTO:+0000
TZNAME:UTC
DTSTART:20220101T000000
END:STANDARD
END:VTIMEZONE
BEGIN:VEVENT
DTSTART;TZID=UTC:20230223T080000
DTEND;TZID=UTC:20230627T170000
DTSTAMP:20260420T200520
CREATED:20221007T163801Z
LAST-MODIFIED:20221023T074411Z
UID:9366-1677139200-1687885200@investigacao.islagaia.pt
SUMMARY:Erasmus Charter for Higher Education 2022
DESCRIPTION:Área: Erasmus | Data Fim de Candidaturas: 27 de Abril de 2023 \n  \nEsta Call visa a acreditação de instituições de ensino superior reconhecidas localizadas\nem países elegíveis\, que têm capacidade operacional para participar em atividades do\nPrograma Erasmus+\, como a mobilidade de aprendizagem de indivíduos e/ou cooperação\npara a inovação e boas práticas. \nPara mais informações sobre o projeto\, clicar em Saber Mais
URL:https://investigacao.islagaia.pt/event/erasmus-charter-for-higher-education-2022/
CATEGORIES:Calls (Projetos)
END:VEVENT
BEGIN:VEVENT
DTSTART;TZID=UTC:20230320T090000
DTEND;TZID=UTC:20230322T200000
DTSTAMP:20260420T200520
CREATED:20221118T153727Z
LAST-MODIFIED:20221130T155127Z
UID:12336-1679302800-1679515200@investigacao.islagaia.pt
SUMMARY:CIoT’23
DESCRIPTION:A CIoT’23 – 6th edition of Conference on Cloud and Internet of Things 2023\, proporciona um fórum internacional de intercâmbio académico e industrial de alta qualidade para especialistas e académicos nas áreas de sistemas inteligentes\, computação na nuvem e Internet das Coisas. \nCIoT’23 realizar-se-á entre 20 e 22 de março de 2023\, na Universidade Lusófona\, em Lisboa\, Portugal. \nOs artigos aceites serão publicados em IEEE Xplore. \n  \nDATAS IMPORTANTES:\nSubmissão de artigos: 15 de dezembro de 2022 \nSubmissão da versão final dos artigos aceites: 31 de janeiro de 2022 \n  \nTEMÁTICAS:\nOs artigos a submeter deverão estar relacionados com um ou mais dos principais temas propostos para a Conferência: \nA) CLOUD\, EDGE AND FOG FOR THE IOT \nB) CLOUD COMPUTING (IAAS\, FAAS\, PAAS\, CAAS\, SAAS) FOR IOT \nC) CLOUD COMPUTING BASED ON IOT TECHNOLOGIES \nD) CLOUD METERING AND MONITORING \nE) SECURITY AND PRIVACY IN CLOUDS AND IOT \nF) ARTIFICIAL INTELLIGENCE FOR IOT\, EDGE IA \nG) MOBILE-EDGE COMPUTING\, MULTI-ACCESS EDGE COMPUTING \nH) IOT 5G SLICE MANAGEMENT \nI) WIRELESS SENSOR NETWORKSNETWORKS FOR IOT: LORA\, SIGFOX\, NB-IOT\, WI-FI\, IEEE 802.11AH\, ETC. \nJ) GREEN COMMUNICATION AND IOT \nK) RADIO FREQUENCY IDENTIFICATION \nL) CLOUD NETWORKING FOR IOT \nM) NETWORK FUNCTION VIRTUALIZATION (NFV) FOR IOT \nN) ARCHITECTURE AND PROTOCOLS FOR IOT AND CLOUD \nO) DISTRIBUTED PLATFORMS FOR IOT \nP) CENTRALIZED AND DISTRIBUTED SYSTEM FOR IOT \nQ) IOT MANAGEMENT SYSTEM \nR) OPEN PLATFORMS FOR IOT \nS) COMMERCIAL PLATFORMS FOR IOT \nT) REAL-TIME SYSTEMS FOR IOT \nU) NEXT GENERATION INFRASTRUCTURE FOR IOT \nV) IOT BIG DATA AND ANALYTICS \nW) WEARABLE DEVICES FOR IOT \nX) PARTICIPATIVE INTERNET \nY) IOT APPLICATIONS AND SERVICES \nZ) SMART HOME\, SMART CITY \nAA) INDUSTRY 4.0 AND INDUSTRIAL IOT (IIOT) \nBB) IOT-BASED ENTERPRISE MANAGEMENT \nCC) IOT-BASED BUSINESS PROCESS MANAGEMENT \nDD) ROBOTS AND IOT \nEE) TESTBEDS AND EXPERIMENTAL PLATFORMS FOR IOT AND THE CLOUD \nFF) IOT STANDARDS AND APPLICATION SCENARIOS \nGG) OPEN TOPICS FOR FUTURE IOT E.G. DIGITAL TWINS \nHH) BLOCKCHAIN FOR IOT \nII) MACHINE/DEEP LEARNING FOR IOT APPLICATIONS\, DATA MANAGEMENT\, DATA PROCESSING \n  \nPara informação detalhada e atualizada clique aqui.
URL:https://investigacao.islagaia.pt/event/worldcist23-2-2/
LOCATION:Universidade Lusófona\, Portugal\, Campo Grande 376\, Lisboa\, Lisboa\, 1749-024\, Portugal
CATEGORIES:Eventos
ATTACH;FMTTYPE=image/png:https://investigacao.islagaia.pt/wp-content/uploads/2022/11/Untitled-1.png
END:VEVENT
BEGIN:VEVENT
DTSTART;TZID=UTC:20230320T093000
DTEND;TZID=UTC:20230320T200000
DTSTAMP:20260420T200520
CREATED:20230316T102435Z
LAST-MODIFIED:20230316T102533Z
UID:13839-1679304600-1679342400@investigacao.islagaia.pt
SUMMARY:Dia da Escola Superior de Gestão
DESCRIPTION:No próximo dia 20 de março (segunda-feira) realizamos o Dia da Escola Superior de Gestão. De forma similar ao ano anterior vamos contar com três sessões de trabalho. O evento é organizado para toda a comunidade; contamos com a participação de todos/as! \nO dia da Escola Superior de Gestão é um espaço de partilha e reflexão onde peritos e especialistas na área da gestão partilham conhecimento e experiências com a comunidade académica. Um dia reservado para a aprendizagem e discussão de temas da atualidade associados às organizações e às ciências empresariais. \nConsulte o programa do evento \nA inscrição é gratuita mas obrigatória. Inscreva-se através do formulário de inscrição
URL:https://investigacao.islagaia.pt/event/dia-da-escola-superior-de-gestao/
LOCATION:ISLA Gaia\, Portugal\, Rua Diogo Macedo n.º 192 |\, Vila Nova de Gaia\, Porto\, 4400-107\, Portugal
CATEGORIES:Eventos
ATTACH;FMTTYPE=image/png:https://investigacao.islagaia.pt/wp-content/uploads/2023/03/DIAESG_2023_A_Post.png
END:VEVENT
END:VCALENDAR