BEGIN:VCALENDAR
VERSION:2.0
PRODID:-//Centro de Investigação do ISLA-IPGT - ECPv6.15.20//NONSGML v1.0//EN
CALSCALE:GREGORIAN
METHOD:PUBLISH
X-WR-CALNAME:Centro de Investigação do ISLA-IPGT
X-ORIGINAL-URL:https://investigacao.islagaia.pt
X-WR-CALDESC:Eventos para Centro de Investigação do ISLA-IPGT
REFRESH-INTERVAL;VALUE=DURATION:PT1H
X-Robots-Tag:noindex
X-PUBLISHED-TTL:PT1H
BEGIN:VTIMEZONE
TZID:UTC
BEGIN:STANDARD
TZOFFSETFROM:+0000
TZOFFSETTO:+0000
TZNAME:UTC
DTSTART:20220101T000000
END:STANDARD
END:VTIMEZONE
BEGIN:VEVENT
DTSTART;TZID=UTC:20230223T080000
DTEND;TZID=UTC:20230627T170000
DTSTAMP:20260420T200238
CREATED:20221007T163801Z
LAST-MODIFIED:20221023T074411Z
UID:9366-1677139200-1687885200@investigacao.islagaia.pt
SUMMARY:Erasmus Charter for Higher Education 2022
DESCRIPTION:Área: Erasmus | Data Fim de Candidaturas: 27 de Abril de 2023 \n  \nEsta Call visa a acreditação de instituições de ensino superior reconhecidas localizadas\nem países elegíveis\, que têm capacidade operacional para participar em atividades do\nPrograma Erasmus+\, como a mobilidade de aprendizagem de indivíduos e/ou cooperação\npara a inovação e boas práticas. \nPara mais informações sobre o projeto\, clicar em Saber Mais
URL:https://investigacao.islagaia.pt/event/erasmus-charter-for-higher-education-2022/
CATEGORIES:Calls (Projetos)
END:VEVENT
BEGIN:VEVENT
DTSTART;TZID=UTC:20230403T183000
DTEND;TZID=UTC:20230513T210000
DTSTAMP:20260420T200238
CREATED:20230314T162839Z
LAST-MODIFIED:20230315T155322Z
UID:13807-1680546600-1684011600@investigacao.islagaia.pt
SUMMARY:Mês da Segurança Ocupacional no ISLA-IPGT
DESCRIPTION:Entre os meses de abril e maio de 2023\, o Centro de Investigação do Instituto Politécnico de Gestão e Tecnologia\, através da sua Linha de Investigação em Engenharia de Segurança\, Qualidade e Ambiente (LESQA)\, vai promover um conjunto de iniciativas dedicadas à Segurança e Saúde no Trabalho\, enfatizando a importância e necessidade da mesma no contexto das organizações e sociedades modernas. \nAqui encontra o cartaz geral da iniciativa\, com a devida programação dos eventos. \nDesde já\, pode-se destacar o primeiro seminário a decorrer no dia 3 de abril de 2023\, dedicado à evolução da Safety Science. Disponibilizamos o programa desse primeiro evento.
URL:https://investigacao.islagaia.pt/event/mes-da-seguranca-ocupacional-no-isla-ipgt/
LOCATION:ISLA Gaia\, Portugal\, Rua Diogo Macedo n.º 192 |\, Vila Nova de Gaia\, Porto\, 4400-107\, Portugal
CATEGORIES:Eventos
ATTACH;FMTTYPE=image/png:https://investigacao.islagaia.pt/wp-content/uploads/2023/03/1.png
END:VEVENT
BEGIN:VEVENT
DTSTART;TZID=UTC:20230427T090000
DTEND;TZID=UTC:20230428T200000
DTSTAMP:20260420T200238
CREATED:20230111T114914Z
LAST-MODIFIED:20230111T114914Z
UID:13570-1682586000-1682712000@investigacao.islagaia.pt
SUMMARY:ICACDS 2023
DESCRIPTION:A ICACDS 2023 – 7th International Conference on Advances in Computing and Data Sciences\, tem como objetivo reunir investigadores\, programadores\, e profissionais da indústria que trabalhem nas áreas da Computação Avançada e Data Sciences. \nA ICACDS 2023 realizar-se-á entre 27 e 28 de abril de 2023\, na Brainware University\, em Kolkata\, Índia. \nOs artigos aceites serão publicados na Springer. \n\nDATAS IMPORTANTES:\nSubmissão de artigos: 31 de janeiro de 2023 \nSubmissão da versão final dos artigos aceites: 05 de abril de 2023 \nInscrição na Conferência: 05 de abril de 2023 \n  \nTEMÁTICAS:\nOs tópicos da Conferência incluem (mas não estão limitados a): \nA) Data Analytics \nB) Change Detection \nC) Medical informatics \nD) Big data representation and visualization \nE) Business intelligence\, data-lakes\, big-data technologies \nF) Text Analytics \nG) Image interpretations \nH) Crowdsourcing and collective intelligence \nI) Data Security \nJ) Advanced computing architectures and new programming models \nK) Sequential\, parallel and distributed algorithms and data structures \nL) Pervasive and Ubiquitous Computing techniques \nM) Computational methods and algorithms \nN) High performance computing and processing \nO) Prediction theory \n  \nPara informação detalhada e atualizada clique aqui.
URL:https://investigacao.islagaia.pt/event/icacds-2023/
LOCATION:Brainware University\, Índia\, 398\, Ramkrishnapur Rd\, near Jagadighata Market\,\, Barasat\, Kolkata\, West Bengal\, 700125\, Índia
CATEGORIES:Eventos
ATTACH;FMTTYPE=image/jpeg:https://investigacao.islagaia.pt/wp-content/uploads/2023/01/Imagem_ICACDS.jpg
END:VEVENT
BEGIN:VEVENT
DTSTART;TZID=UTC:20230428T100000
DTEND;TZID=UTC:20230428T180000
DTSTAMP:20260420T200238
CREATED:20230426T091300Z
LAST-MODIFIED:20230426T092520Z
UID:14098-1682676000-1682704800@investigacao.islagaia.pt
SUMMARY:XII Jornadas de Turismo do ISLA GAIA - "Saber Ser e Saber Estar"
DESCRIPTION:O ISLA-IPGT promove as XII Jornadas de Turismo do ISLA GAIA – “Saber Ser e Saber Estar”\, que se organizam no dia 28 abril. \nTerá como convidados o Prof. Doutor Vasco Ribeiro\, autor e especialista em Hotelaria e Turismo de Luxo que irá proferir uma palestra intitulada “O Anfitrião Modelo no Turismo & Hospitalidade”\, seguida da apresentação do seu último livro “O Anfitrião Modelo: a arte de bem Receber\, Atender e Servir no setor do Turismo” e de um workshop sobre o mesmo tema. \nDa parte da tarde\, contamos com a presença da Diretora-geral do hotel Torel Avantgarde\, Doutora Liliane Pereira\, que irá abordar o tema “Etiqueta segundo a Geração Z” complementado de um workshop da mesma temática. \nConsulte o cartaz do evento.
URL:https://investigacao.islagaia.pt/event/xii-jornadas-de-turismo-do-isla-gaia-saber-ser-e-saber-estar/
LOCATION:ISLA Gaia\, Portugal\, Rua Diogo Macedo n.º 192 |\, Vila Nova de Gaia\, Porto\, 4400-107\, Portugal
CATEGORIES:Eventos
ATTACH;FMTTYPE=image/gif:https://investigacao.islagaia.pt/wp-content/uploads/2023/04/wallpaper-jornadas-de-turismo.gif
END:VEVENT
BEGIN:VEVENT
DTSTART;TZID=UTC:20230428T183000
DTEND;TZID=UTC:20230428T210000
DTSTAMP:20260420T200238
CREATED:20230417T090058Z
LAST-MODIFIED:20230417T090058Z
UID:14003-1682706600-1682715600@investigacao.islagaia.pt
SUMMARY:Seminário Dia Nacional da Segurança e Saúde do Trabalho
DESCRIPTION:No dia 28 de abril de 2023 comemora-se mais um Dia Nacional e Mundial para a Segurança e Saúde no Trabalho. É uma comemoração\, à escala internacional\, para homenagear as vítimas de acidentes de trabalho e doença profissional e relembrar a importância das atividades de segurança e saúde do trabalho nas organizações. \nO ISLA-IPGT\, uma vez mais\, assinala a data com a realização de um seminário alusivo à ocasião/temática. \nClique para consultar o programa desta edição.
URL:https://investigacao.islagaia.pt/event/seminario-dia-nacional-da-seguranca-e-saude-do-trabalho/
LOCATION:ISLA Gaia\, Portugal\, Rua Diogo Macedo n.º 192 |\, Vila Nova de Gaia\, Porto\, 4400-107\, Portugal
CATEGORIES:Eventos
ATTACH;FMTTYPE=image/png:https://investigacao.islagaia.pt/wp-content/uploads/2023/03/1.png
END:VEVENT
END:VCALENDAR