BEGIN:VCALENDAR
VERSION:2.0
PRODID:-//Centro de Investigação do ISLA-IPGT - ECPv6.15.20//NONSGML v1.0//EN
CALSCALE:GREGORIAN
METHOD:PUBLISH
X-ORIGINAL-URL:https://investigacao.islagaia.pt
X-WR-CALDESC:Eventos para Centro de Investigação do ISLA-IPGT
REFRESH-INTERVAL;VALUE=DURATION:PT1H
X-Robots-Tag:noindex
X-PUBLISHED-TTL:PT1H
BEGIN:VTIMEZONE
TZID:UTC
BEGIN:STANDARD
TZOFFSETFROM:+0000
TZOFFSETTO:+0000
TZNAME:UTC
DTSTART:20220101T000000
END:STANDARD
END:VTIMEZONE
BEGIN:VEVENT
DTSTART;TZID=UTC:20230223T080000
DTEND;TZID=UTC:20230627T170000
DTSTAMP:20260420T145539
CREATED:20221007T163801Z
LAST-MODIFIED:20221023T074411Z
UID:9366-1677139200-1687885200@investigacao.islagaia.pt
SUMMARY:Erasmus Charter for Higher Education 2022
DESCRIPTION:Área: Erasmus | Data Fim de Candidaturas: 27 de Abril de 2023 \n  \nEsta Call visa a acreditação de instituições de ensino superior reconhecidas localizadas\nem países elegíveis\, que têm capacidade operacional para participar em atividades do\nPrograma Erasmus+\, como a mobilidade de aprendizagem de indivíduos e/ou cooperação\npara a inovação e boas práticas. \nPara mais informações sobre o projeto\, clicar em Saber Mais
URL:https://investigacao.islagaia.pt/event/erasmus-charter-for-higher-education-2022/
CATEGORIES:Calls (Projetos)
END:VEVENT
BEGIN:VEVENT
DTSTART;TZID=UTC:20230618T090000
DTEND;TZID=UTC:20230622T200000
DTSTAMP:20260420T145539
CREATED:20221129T152542Z
LAST-MODIFIED:20221130T155046Z
UID:12757-1687078800-1687464000@investigacao.islagaia.pt
SUMMARY:FAIM'2023
DESCRIPTION:A International Conference on Flexible Automation and Intelligent Manufacturing foi realizada em 26 cidades de 14 países da Europa\, América e Ásia\, abordando temas relacionados com as áreas da tecnologia e gestão. A 32nd International Conference on Flexible Automation and Intelligent Manufacturing – FAIM’2023\, é o marco de 32 anos de presença contínua no cenário internacional industrial. Também significa um marco nos padrões científicos\, organizacionais e de direção da Conferência. \nA FAIM’2023 realizar-se-á entre 18 e 22 de junho de 2023\, na Alfândega do Porto\, no Porto\, Portugal. \nOs artigos aceites serão submetidos para indexação na SCOPUS. \n  \nDATAS IMPORTANTES:\nSubmissão de artigos: 22 de dezembro de 2022 \nSubmissão da versão final dos artigos aceites: 20 de fevereiro de 2023 \n  \nTEMÁTICAS:\nOs artigos a submeter deverão estar relacionados com um dos principais temas propostos para a Conferência: \nA) AUTOMATION AND ROBOTICS \nB) MANUFACTURING PROCESSES AND OPTIMIZATION \nC) MACHINES AND MECHANICAL DESIGN \nD) CAD/CAM/CAE \nE) ADVANCED MATERIALS PROCESSING AND CHARACTERIZATION \nF) CUTTING-EDGE MEASUREMENT TECHNIQUES \nG) INNOVATIVE MAINTENANCE \nH) LEAN\, KAIZEN\, QUALITY\, AND PRODUCTIVITY \nI) SUSTAINABILITY AND GREEN MANUFACTURING \nJ) HUMAN FACTORS IN MANUFACTURING \nK) LOGISTICS \nL) MATHEMATICAL MODELS FOR INDUSTRY AND SERVICES \nM) INTELLIGENT SERVICES AND ARTIFICIAL INTELLIGENCE IN MANUFACTURING \nN) IOT AND CLOUD COMPUTING IN MANUFACTURING AND SERVICES \nO) INDUSTRY 4.0/5.0. \n  \nPara informação detalhada e atualizada clique aqui.
URL:https://investigacao.islagaia.pt/event/faim2023/
LOCATION:Alfândega do Porto\, Portugal\, EDIFÍCIO DA ALFÂNDEGA\, R. Nova da Alfândega\, Porto\, 4050-430\, Portugal
CATEGORIES:Eventos
ATTACH;FMTTYPE=image/jpeg:https://investigacao.islagaia.pt/wp-content/uploads/2022/11/FAIM.jpg
END:VEVENT
BEGIN:VEVENT
DTSTART;TZID=UTC:20230620T090000
DTEND;TZID=UTC:20230623T200000
DTSTAMP:20260420T145539
CREATED:20221028T100937Z
LAST-MODIFIED:20221130T155025Z
UID:10875-1687251600-1687550400@investigacao.islagaia.pt
SUMMARY:CISTI'2023 - Call for Papers
DESCRIPTION:A CISTI’2023 – 18th Iberian Conference on Information Systems and Technologies\, é um evento técnico-científico anual\, que visa a apresentação e a discussão de conhecimentos\, novas perspetivas\, experiências e inovações no domínio dos sistemas e tecnologias de informação. \nA CISTI’2023 realizar-se-á entre 20 e 23 de junho de 2023\, na Universidade de Aveiro\, Aveiro\, Portugal. \nOs artigos aceites serão submetidos para inclusão na Biblioteca Digital IEEE Xplore e serão submetidos para indexação em ISI\, Scopus\, EI-Compendex\, INSPEC e Google Scholar. \n  \nDATAS IMPORTANTES:\nSubmissão de artigos: 12 de fevereiro de 2023 \nNotificação de aceitação: 26 de março de 2023 \nSubmissão da versão final dos artigos aceites: 9 de abril de 2023 \nPagamento da inscrição\, para garantir a inclusão de artigo aceite nas actas da conferência: 9 de abril de 2023 \n  \nTEMÁTICAS:\nOs artigos a submeter deverão enquadrar-se nas grandes temáticas propostas: \nA) OMIS – Organizational Models and Information Systems \nB) KMDSS – Knowledge Management and Decision Support Systems \nC) SSAAT – Software Systems\, Architectures\, Applications and Tools \nD) CNMPS – Computer Networks\, Mobility and Pervasive Systems \nE) HCC – Human Centered Computing \nF) HIS – Health Informatics \nG) ITE – Information Technologies in Education \nH) AEC – Architecture and Engineering of Construction \n  \nPara informação detalhada e atualizada clique aqui. 
URL:https://investigacao.islagaia.pt/event/cisti2023-18th-iberian-conference-on-information-systems-and-technologies/
LOCATION:Universidade de Aveiro\, Portugal\, Campus Universitário de Santiago\, Aveiro\, 3810-193\, Portugal
CATEGORIES:Eventos
ATTACH;FMTTYPE=image/jpeg:https://investigacao.islagaia.pt/wp-content/uploads/2022/10/CISTI.jpg
END:VEVENT
BEGIN:VEVENT
DTSTART;TZID=UTC:20230620T090000
DTEND;TZID=UTC:20230623T200000
DTSTAMP:20260420T145539
CREATED:20221028T111202Z
LAST-MODIFIED:20221130T155005Z
UID:10881-1687251600-1687550400@investigacao.islagaia.pt
SUMMARY:CISTI'2023 - Call for Workhops
DESCRIPTION:A CISTI’2023 – 18th Iberian Conference on Information Systems and Technologies\, é um evento técnico-científico anual\, que visa a apresentação e a discussão de conhecimentos\, novas perspetivas\, experiências e inovações no domínio dos sistemas e tecnologias de informação. \nA comunidade de académicos\, investigadores e profissionais em Sistemas e Tecnologias da Informação é convidada a submeter propostas de Workshops para a CISTI 2023 – 18th Iberian Conference on Information Systems and Technologies a ser realizada em Aveiro\, Portugal\, 20-23 de junho de 2023. Podem ser propostos dois tipos de Workshops: Workshops Regulares e Workshops de Projeto. \nWorkshops regulares devem ser centrados num assunto científico específico no âmbito da CISTI 2023\, mas não diretamente incluído nas áreas principais da conferência. Cada Workshop será coordenado por um comité organizador composto de\, pelo menos\, dois investigadores na área\, preferivelmente de instituições e países diferentes. Os organizadores devem criar um comité de programa internacional para o Workshop\, com investigadores reconhecidos dentro da área científica específica. Cada Workshop deve ter pelo menos 10 submissões e 5 artigos aceites\, de modo a ser realizado na CISTI. \nWorkshops de projeto têm a intenção de promover a divulgação e disseminação dos resultados de projetos e facilitar a futura exploração desses resultados de projetos da UE\, latino-americanos e nacionais\, tais como EU/FP7\, EU/Horizon\, CSIC\, FCT\, QREN\, Portugal 2020\, Fund.Gulbenkian\, CYTED\, CAPES\, CNPq\, FINEP e outros projetos/fontes de financiamento. Os resultados a serem divulgados podem ser resultados preliminares do projeto (para projetos em curso) ou os resultados finais do projeto (para os projetos já concluídos). Cada Workshop de projeto deve estar diretamente relacionado com um projeto financiado de forma competitiva por uma organização científica nacional/internacional. O Workshop deve ser coordenado por um Comité Organizador composto por pelo menos dois investigadores\, incluindo o investigador principal do projeto. Cada Workshop terá 1 artigo oferecido para 10 artigos com inscrição paga\, 2 artigos oferecidos para 20 artigos com inscrição paga\, e 3 artigos oferecidos para 40 artigos com inscrição paga. A seleção dos Workshop será realizada pelos Coordenadores da conferência CISTI 2023. Os artigos aceites nos Workshops serão publicados nas atas da conferência\, em capítulos específicos relativos a cada Workshop. As atas serão submetidas à indexação pelo WoS\, SCOPUS\, EI-Compendex\, INSPEC e Google Scholar. \n  \nDATAS IMPORTANTES:\nProposta de Workshops: 13 de novembro de 2022 \nNotificação da Aceitação de Workshops: 20 de novembro de 2022 \nSubmissão de Artigos: 26 de fevereiro de 2023 \nNotificação da Aceitação de Artigos: 26 de março de 2023 \nVersões Finais de Artigos e Inscrição na Conferência: 9 de abril de 2023 \nAtas do Workshop entregues aos organizadores da CISTI2023: 9 de abril de 2023 \n  \nPara informação detalhada e atualizada clique aqui.  \n  \n 
URL:https://investigacao.islagaia.pt/event/cisti2023-call-for-workhops/
LOCATION:Universidade de Aveiro\, Portugal\, Campus Universitário de Santiago\, Aveiro\, 3810-193\, Portugal
CATEGORIES:Eventos
ATTACH;FMTTYPE=image/jpeg:https://investigacao.islagaia.pt/wp-content/uploads/2022/10/CISTI.jpg
END:VEVENT
BEGIN:VEVENT
DTSTART;TZID=UTC:20230621T090000
DTEND;TZID=UTC:20230622T200000
DTSTAMP:20260420T145539
CREATED:20230111T104553Z
LAST-MODIFIED:20230111T104553Z
UID:13565-1687338000-1687464000@investigacao.islagaia.pt
SUMMARY:CIB W099 & W123
DESCRIPTION:A CIB W099 & W123 – Annual International Conference – Digital Transformation of Health and Safety in Construction\, realizar-se-á entre 21 e 22 de junho de 2023\, na Faculdade de Engenharia da Universidade do Porto\, no Porto\, Portugal. \n\nDATAS IMPORTANTES:\nSubmissão de abstracts: 27 de janeiro de 2023 \nSubmissão dos artigos: 31 de março de 2023 \nSubmissão dos artigos finais: 10 de junho de 2023 \n  \nTEMÁTICAS:\nOs tópicos da Conferência: \nA) Hazardous Materials and Health \nB) Covid-19 and Better Health and Safety in Construction \nC) Safety in Design / Prevention through Design \nD) Construction Industry Safety \nE) Health\, and Wellbeing Challenges \nF) Fatigue and thermal comfort \nG) Construction Site Risks and Management Practices \nH) Inclusive Construction Sites in Actual Working \nI) Construction Industry Health and Safety Issues in Developing Countries \nJ) ILO/UN declaration “A Safe and Healthy Work Environment is now a Fundamental Principle and Right at Work” \nK) Construction Case Studies of Effective Use of Digital Tools to Improve H&S \n  \nPara informação detalhada e atualizada clique aqui.
URL:https://investigacao.islagaia.pt/event/cib-w099-w123-2/
LOCATION:Universidade do Porto\, Portugal\, R. Dr. Roberto Frias\, s/n\, Porto\, Porto\, 4200-465\, Portugal
CATEGORIES:Eventos
ATTACH;FMTTYPE=image/jpeg:https://investigacao.islagaia.pt/wp-content/uploads/2023/01/Imagem_CIBW099W123.jpg
END:VEVENT
END:VCALENDAR