BEGIN:VCALENDAR
VERSION:2.0
PRODID:-//Centro de Investigação do ISLA-IPGT - ECPv6.15.20//NONSGML v1.0//EN
CALSCALE:GREGORIAN
METHOD:PUBLISH
X-ORIGINAL-URL:https://investigacao.islagaia.pt
X-WR-CALDESC:Eventos para Centro de Investigação do ISLA-IPGT
REFRESH-INTERVAL;VALUE=DURATION:PT1H
X-Robots-Tag:noindex
X-PUBLISHED-TTL:PT1H
BEGIN:VTIMEZONE
TZID:UTC
BEGIN:STANDARD
TZOFFSETFROM:+0000
TZOFFSETTO:+0000
TZNAME:UTC
DTSTART:20220101T000000
END:STANDARD
END:VTIMEZONE
BEGIN:VEVENT
DTSTART;TZID=UTC:20230629T090000
DTEND;TZID=UTC:20230630T200000
DTSTAMP:20260420T131808
CREATED:20221102T094416Z
LAST-MODIFIED:20230111T110834Z
UID:11743-1688029200-1688155200@investigacao.islagaia.pt
SUMMARY:ICITED'23
DESCRIPTION:A ICITED’23 – 3rd International Conference in Information Technology & Education\, é uma Conferência multidisciplinar\, transversal a todos os setores de atividade que envolvem Tecnologias e Sistemas de Informação na área da Educação\, nomeadamente: Instituições de Ensino Superior\, Investigação e Desenvolvimento\, Negócios e Finanças\, Administração Pública\, Economia\, Gestão e Tecnologias da Informação e Comunicação. \nA ICITED’23 realizar-se-á entre 29 e 30 de junho de 2023\, na Universidade Nilton Lins\, em Manaus\, Brasil. \nOs artigos aceites serão submetidos para indexação em ISI\, EI-Compendex e SCOPUS. \n  \nDATAS IMPORTANTES:\nSubmissão de artigos: 25 de março de 2023 \nInscrição: 15 de maio de 2023 \nSubmissão da versão final dos artigos aceites: 15 de maio de 2023 \n  \nTEMÁTICAS:\nOs artigos a submeter deverão estar relacionados com um ou mais dos principais temas propostos para a Conferência: \nA) ICT and Virtual learning \nB) Pedagogical & Didactical Innovations \nC) Technologies issues in the different scientific areas \nD) Quality in Education \nE) Technological Issues in Education and Research \nF) Educational Software and Serious Games \nG) Curriculum Design and Innovation \nH) University-Industry Collaboration \n  \nPara informação detalhada e atualizada clique aqui.
URL:https://investigacao.islagaia.pt/event/worldcist23-2/
LOCATION:Universidade Nilton Lins\, Brasil\, Parque das Laranjeiras\, Av. Prof. Nilton Lins\, 3259\, Manaus\, Amazonas\, 69058-030\, Brasil
CATEGORIES:Eventos
ATTACH;FMTTYPE=image/jpeg:https://investigacao.islagaia.pt/wp-content/uploads/2022/11/Imagem_ICITED.jpg
END:VEVENT
BEGIN:VEVENT
DTSTART;TZID=UTC:20230629T090000
DTEND;TZID=UTC:20230630T200000
DTSTAMP:20260420T131808
CREATED:20221216T171324Z
LAST-MODIFIED:20221216T171324Z
UID:13223-1688029200-1688155200@investigacao.islagaia.pt
SUMMARY:AEDE 2023
DESCRIPTION:O AEDE – XXXI Meeting of the Economics of Education Association\, incluirá\, entre outros\, espaços de reflexão e debate sobre o financiamento da educação\, o seu planeamento e gestão\, problemas de equidade e eficiência\, capital humano e crescimento económico ou indicadores de qualidade educacional. O XXXI Encontro contará com a presença de especialistas nacionais e internacionais que abordarão o papel da educação na vida económica e social sob diferentes pontos de vista. \nO principal objetivo deste encontro é o de melhorar o conhecimento da educação e orientar as políticas educacionais em todas as suas áreas. \nO AEDE 2023 realizar-se-á entre 29 e 30 de junho de 2023\, na Universidade de Santiago de Compostela\, em Santiago de Compostela\, Espanha. \n  \nDATAS IMPORTANTES:\nSubmissão de artigos: 05 de março de 2023 \nSubmissão da versão final dos artigos aceites: 15 de maio de 2023 \n  \nTEMÁTICAS:\nOs tópicos estão organizados pelas seguintes áreas: \nA) Demand for schooling\, educational finance and equity \nB) Management and educational planning \nC) Educational production and efficiency \nD) Education and labour market \nE) Human capital and economic growth \nF) Miscellaneous \n  \nPara informação detalhada e atualizada clique aqui.
URL:https://investigacao.islagaia.pt/event/aede-2023/
LOCATION:Universidade de Santiago de Compostela\, Espanha\, Praza do Obradoiro\, 0\, Santiago de Compostela\, A Coruña\, 15705\, Espanha
CATEGORIES:Eventos
ATTACH;FMTTYPE=image/png:https://investigacao.islagaia.pt/wp-content/uploads/2022/12/Conf-AEDE.png
END:VEVENT
BEGIN:VEVENT
DTSTART;TZID=UTC:20230630T090000
DTEND;TZID=UTC:20230630T200000
DTSTAMP:20260420T131808
CREATED:20230503T154531Z
LAST-MODIFIED:20230503T154531Z
UID:14258-1688115600-1688155200@investigacao.islagaia.pt
SUMMARY:XIV POSTGRADUATE CONFERENCE
DESCRIPTION:A XIV Postgraduate Conference – Management\, Hospitality e Tourism\, organizada pela Escola Superior de Gestão\, Hotelaria e Turismo da Universidade do Algarve\, em parceria com o Instituto Superior de Contabilidade e Administração de Lisboa do Instituto Politécnico de Lisboa\, tem-se constituído como um espaço informal de crítica construtiva e debate multidisciplinar para jovens investigadores nas áreas do turismo\, hotelaria\, marketing\, gestão\, tecnologias de informação e comunicação\, línguas e literaturas aplicadas (ao turismo\, hotelaria\, marketing e gestão)\, e todas as áreas de investigação afins. Esta conferência anual pretende oferecer aos mestrandos\, mestres\, doutorandos\, recém-doutorados e pós-graduandos\, a oportunidade de se reunirem para partilhar e enriquecer a investigação que se encontram a desenvolver ou que terminaram recentemente. \nNesta décima quarta edição\, a decorrer no dia 30 de junho de 2023\, oferece-se a todos os participantes a possibilidade de apresentar comunicações. \nA conferência será online e presencial nas instalações do Instituto Superior de Contabilidade e Administração de Lisboa (ISCAL)\, Lisboa\, Portugal. \nTodos os resumos dos trabalhos apresentados na conferência serão publicados no livro de resumos da XIII Postgraduate Conference (com ISBN). \n  \nDATAS IMPORTANTES:\nPara mestrandos\, mestres\, doutorandos\, recém-doutorados e pós-graduandos: \nSubmissão de resumos: 15 de maio de 2023 \nNotificação de aceitação: 31 de maio de 2023 \nInscrição: 15 de junho de 2023 \n  \nTEMÁTICAS:\nConvidam-se os investigadores a enviarem os seus resumos nas seguintes áreas de investigação: \nA) Comunicação\, Amorosidade e Autopoiese no Turismo \nB) Contabilidade \nC) Cultura e Património \nD) Direito / Direito Fiscal e Fiscalidade \nE) Economia \nF) Empreendedorismo \nG) Ética e Responsabilidade Social \nH) Finanças \nI) Hotelaria e Turismo \nJ) Línguas e Literaturas aplicadas ao Turismo ou Gestão \nK) Marketing \nL) Negócios Internacionais \nM) Recursos Humanos \nN) Sustentabilidade e Objetivos do Desenvolvimento Sustentável \nO) Tecnologias de Informação e Comunicação \n  \nPara informação detalhada e atualizada clique aqui.
URL:https://investigacao.islagaia.pt/event/xiv-postgraduate-conference/
LOCATION:Lisboa\, Portugal\, Av. Miguel Bombarda 20\, Lisboa\, Lisboa\, 1069-035\, Portugal
CATEGORIES:Eventos
ATTACH;FMTTYPE=image/png:https://investigacao.islagaia.pt/wp-content/uploads/2023/05/wallpaper-conf-POSTGRADUATE.png
END:VEVENT
END:VCALENDAR