BEGIN:VCALENDAR
VERSION:2.0
PRODID:-//Centro de Investigação do ISLA-IPGT - ECPv6.15.20//NONSGML v1.0//EN
CALSCALE:GREGORIAN
METHOD:PUBLISH
X-WR-CALNAME:Centro de Investigação do ISLA-IPGT
X-ORIGINAL-URL:https://investigacao.islagaia.pt
X-WR-CALDESC:Eventos para Centro de Investigação do ISLA-IPGT
REFRESH-INTERVAL;VALUE=DURATION:PT1H
X-Robots-Tag:noindex
X-PUBLISHED-TTL:PT1H
BEGIN:VTIMEZONE
TZID:UTC
BEGIN:STANDARD
TZOFFSETFROM:+0000
TZOFFSETTO:+0000
TZNAME:UTC
DTSTART:20220101T000000
END:STANDARD
END:VTIMEZONE
BEGIN:VEVENT
DTSTART;TZID=UTC:20230711T090000
DTEND;TZID=UTC:20230713T200000
DTSTAMP:20260420T131533
CREATED:20230203T110125Z
LAST-MODIFIED:20230203T110125Z
UID:13702-1689066000-1689278400@investigacao.islagaia.pt
SUMMARY:CIAIQ2023
DESCRIPTION:O CIAIQ2023 – 12º Congresso Ibero-Americano em Investigação Qualitativa\, é um evento anual que reúne representantes da comunidade científica internacional a trabalhar nesta área de investigação. O crescente sucesso das edições anteriores é um indicador importante de uma comunidade multidisciplinar\, comprometida e de qualidade no contexto da investigação qualitativa. \nO CIAIQ2023 terá lugar de 11 a 13 de julho de 2023\, na Escola Superior de Enfermagem de Lisboa\, Portugal e online. \nOs artigos aceites serão publicados nos seguintes livros (com ISSN\, DOI e ISBN): \nInvestigação Qualitativa em Educação: Avanços e Desafios\nInvestigação Qualitativa em Saúde: Avanços e Desafios\nInvestigação Qualitativa em Ciências Sociais: Avanços e Desafios \n  \nDATAS IMPORTANTES:\nSubmissão de artigos: 3 de março de 2023\n \nNotificação aos autores: 12 de abril de 2023\n \nSubmissão dos textos finais para publicação: 30 de Abril de 2023\n \nInscrição para autores de artigos: 30 de abril 2023 \n  \nTEMÁTICAS:\nPodem ser submetidos artigos que abranjam as seguintes temáticas: \nA) Fundamentos \n\nFundamentação e Paradigmas de Investigação Qualitativa (estudos teóricos\, reflexão crítica sobres as dimensões epistemológicas\, ontológicas e axiológicas)\nSistematização de estudos com Abordagens Qualitativas (revisão da literatura\, integração de resultados\, agregação de estudos\, meta-análise\, meta-análise qualitativa\, meta-síntese\, meta-etnografia)\nInvestigação Qualitativa e Métodos Mistos (ênfase em processos de investigação que se apoiem em metodologias mistas mas com prioridade às abordagens qualitativas)\n\nB) Operacionalização \n\nTipologias de Análise de Dados (análise de conteúdo\, análise do discurso\, análise temática\, análise de narrativas\, etc.)\nProcessos inovadores de Análise Qualitativa de Dados (desenho de análise\, articulação e triangulação de diversas fontes de dados – imagens\, áudios\, vídeos)\nInvestigação Qualitativa em Contexto Web (eResearch\, etnografia virtual\, análise de interações\, corpus latent na internet\, etc.)\nAnálise Qualitativa com Apoio de Software Específico (estudos de usabilidade\, user experience\, impacto do software na qualidade de investigaçãoe da análise)\n\n  \nPara informação detalhada e atualizada clique aqui.
URL:https://investigacao.islagaia.pt/event/ciaiq2023/
LOCATION:Escola Superior de Enfermagem de Lisboa\, Portugal\, Av. Prof. Egas Moniz\, Lisboa\, 1600-096\, Portugal
CATEGORIES:Eventos
ATTACH;FMTTYPE=image/jpeg:https://investigacao.islagaia.pt/wp-content/uploads/2023/02/Untitled-1.jpg
END:VEVENT
END:VCALENDAR