BEGIN:VCALENDAR
VERSION:2.0
PRODID:-//Centro de Investigação do ISLA-IPGT - ECPv6.15.20//NONSGML v1.0//EN
CALSCALE:GREGORIAN
METHOD:PUBLISH
X-WR-CALNAME:Centro de Investigação do ISLA-IPGT
X-ORIGINAL-URL:https://investigacao.islagaia.pt
X-WR-CALDESC:Eventos para Centro de Investigação do ISLA-IPGT
REFRESH-INTERVAL;VALUE=DURATION:PT1H
X-Robots-Tag:noindex
X-PUBLISHED-TTL:PT1H
BEGIN:VTIMEZONE
TZID:UTC
BEGIN:STANDARD
TZOFFSETFROM:+0000
TZOFFSETTO:+0000
TZNAME:UTC
DTSTART:20220101T000000
END:STANDARD
END:VTIMEZONE
BEGIN:VEVENT
DTSTART;TZID=UTC:20230715T090000
DTEND;TZID=UTC:20230717T200000
DTSTAMP:20260420T131317
CREATED:20221206T113403Z
LAST-MODIFIED:20230203T101233Z
UID:12970-1689411600-1689624000@investigacao.islagaia.pt
SUMMARY:ELDL 2023
DESCRIPTION:A ELDL 2023 – 17th International Conference on e-Learning and Digital Learning\, visa abordar as principais questões relevantes do e-Learning. \nA ELDL 2023 realizar-se-á entre 15 e 17 de julho de 2023\, no Porto\, Portugal. \nAs Atas da Conferência serão submetidas para indexação em (aguarda aprovação): IET Inspec; Scopus; Thomson Reuters; ERIC. \n  \nDATAS IMPORTANTES:\nSubmissão de artigos: 24 de fevereiro de 2023 \nNotificação de aceitação: 27 de março de 2023 \nSubmissão da versão final dos artigos aceites: 31 de março de 2023 \n  \nTEMÁTICAS:\nOs artigos a submeter deverão estar relacionados com um ou mais dos principais temas propostos para a Conferência: \nA) ORGANISATIONAL STRATEGY AND MANAGEMENT ISSUES \nB) TECHNOLOGICAL ISSUES \nC) E-LEARNING CURRICULUM DEVELOPMENT ISSUES \nD) INSTRUCTIONAL DESIGN ISSUES \nE) E-LEARNING DELIVERY ISSUES \nF) E-LEARNING RESEARCH METHODS AND APPROACHES \nG) E-SKILLS AND INFORMATION LITERACY FOR LEARNING \n  \nPara informação detalhada e atualizada clique aqui.
URL:https://investigacao.islagaia.pt/event/eldl-2023/
LOCATION:Porto\, Portugal\, Porto\, Portugal
CATEGORIES:Eventos
ATTACH;FMTTYPE=image/png:https://investigacao.islagaia.pt/wp-content/uploads/2022/12/ELDL.png
END:VEVENT
BEGIN:VEVENT
DTSTART;TZID=UTC:20230716T090000
DTEND;TZID=UTC:20230718T200000
DTSTAMP:20260420T131317
CREATED:20221206T121122Z
LAST-MODIFIED:20221206T121523Z
UID:12974-1689498000-1689710400@investigacao.islagaia.pt
SUMMARY:CGVCVIP 2023
DESCRIPTION:A CGVCVIP 2023 – 17th International Conference on Computer Graphics\, Visualization\, Computer Vision and Image Processing\, visa incentivar a pesquisa interdisciplinar nas áreas da Computação Gráfica\, Visualização\, Visão Computacional e Processamento de Imagens. \nA CGVCVIP 2023 realizar-se-á entre 16 e 18 de julho de 2023\, no Porto\, Portugal. \nAs Atas da Conferência serão submetidas para indexação em (aguarda aprovação): IET Inspec; Scopus; Thomson Reuters; EBSCO. \n  \nDATAS IMPORTANTES:\nSubmissão de artigos: 27 de janeiro de 2023 \nSubmissão da versão final dos artigos aceites: 31 de março de 2023 \n  \nTEMÁTICAS:\nOs artigos a submeter deverão estar relacionados com um ou mais dos principais temas propostos para a Conferência: \nA) COMPUTER GRAPHICS \nB) IMAGE PROCESSING \nC) VISUALIZATION \nD) COMPUTER VISION \nE) OTHER RELATED TOPICS \n  \nPara informação detalhada e atualizada clique aqui.
URL:https://investigacao.islagaia.pt/event/cgvcvip-2023/
LOCATION:Porto\, Portugal\, Porto\, Portugal
CATEGORIES:Eventos
ATTACH;FMTTYPE=image/png:https://investigacao.islagaia.pt/wp-content/uploads/2022/12/CGVCVIP.png
END:VEVENT
BEGIN:VEVENT
DTSTART;TZID=UTC:20230717T180000
DTEND;TZID=UTC:20230717T190000
DTSTAMP:20260420T131317
CREATED:20221107T114545Z
LAST-MODIFIED:20230522T084056Z
UID:11909-1689616800-1689620400@investigacao.islagaia.pt
SUMMARY:Formação Mendeley
DESCRIPTION:DESCRIÇÃO:\nUma eficaz gestão das referências bibliográficas torna-se imprescindível na elaboração de qualquer trabalho académico ou científico. Com a utilização de gestores de referências bibliográficas automáticos\, como é o caso do Mendeley\, é possível automatizar\, quanto possível\, o processo\, reduzindo o tempo gasto em cada documento e aumentando o rigor.\nA formação seguirá uma metodologia learning-by-doing sendo assim necessário a utilização de computador para seguir os exercícios propostos. Estes serão disponibilizados já que a formação decorrerá numa sala de computadores\, no entanto\, poderá trazer e utilizar o seu computador pessoal se assim preferir. \nDESTINATÁRIOS:\nTodos os pertencentes à comunidade do ISLA-Gaia que tenham interesse em desenvolver competências em ferramentas de gestão de referências bibliográficas\, de forma a facilitar a elaboração de trabalhos académicos e científicos. \nREQUISITOS:\nComputador com acesso à Internet. \nOBJETIVOS:\nPretende-se que os formandos\, no final da ação\, consigam:\na) Identificar os conceitos básicos e funções da ferramenta;\nb) Utilizar as funções mais utilizadas da ferramenta;\nc) Aplicar a ferramenta em trabalhos científicos\, através do plug-in para o Word. \nCONTEÚDO PROGRAMÁTICO:\n1) O que é um gestor de referências?\n2) Para que serve o Mendeley?\n3) Download e Instalação do Mendeley e do plug-in Mendeley Web Importer.\n4) Criar uma conta no Mendeley.\n5) Como importar registos de sites com utilização do plug-in Mendeley Web Importer.\n6) Como inserir referências e documentos no Mendeley.\n7) Como importar registos através do identificador.\n8) Como inserir referências através do plug-in.\n9) Como organizar as referências em coleções (pastas).\n10) Como inserir citações e bibliografia no Word.\n11) Funcionalidades de edição do Mendeley. \nNÚMERO DE FORMANDOS:\nNúmero máximo de formandos: 12 \nNÍVEL:\nIniciante \nDATA:\nData provisória \nHORÁRIO:\nHorário provisório \nDURAÇÃO:\n90 MINUTOS \nLOCAL:\nA definir \nINSCRIÇÃO:\nFaça Login ou Registe-se com o seu email da instituição para se inscrever nesta formação. \n 
URL:https://investigacao.islagaia.pt/event/formacao-mendeley-2-2/
LOCATION:ISLA Gaia\, Portugal\, Rua Diogo Macedo n.º 192 |\, Vila Nova de Gaia\, Porto\, 4400-107\, Portugal
CATEGORIES:Ações de Formação
ATTACH;FMTTYPE=image/jpeg:https://investigacao.islagaia.pt/wp-content/uploads/2022/11/mendeley.jpg
END:VEVENT
END:VCALENDAR