BEGIN:VCALENDAR
VERSION:2.0
PRODID:-//Centro de Investigação do ISLA-IPGT - ECPv6.15.20//NONSGML v1.0//EN
CALSCALE:GREGORIAN
METHOD:PUBLISH
X-WR-CALNAME:Centro de Investigação do ISLA-IPGT
X-ORIGINAL-URL:https://investigacao.islagaia.pt
X-WR-CALDESC:Eventos para Centro de Investigação do ISLA-IPGT
REFRESH-INTERVAL;VALUE=DURATION:PT1H
X-Robots-Tag:noindex
X-PUBLISHED-TTL:PT1H
BEGIN:VTIMEZONE
TZID:UTC
BEGIN:STANDARD
TZOFFSETFROM:+0000
TZOFFSETTO:+0000
TZNAME:UTC
DTSTART:20220101T000000
END:STANDARD
END:VTIMEZONE
BEGIN:VEVENT
DTSTART;TZID=UTC:20230719T090000
DTEND;TZID=UTC:20230720T200000
DTSTAMP:20260420T131344
CREATED:20221130T154356Z
LAST-MODIFIED:20221130T154859Z
UID:12863-1689757200-1689883200@investigacao.islagaia.pt
SUMMARY:ICECCME 2023
DESCRIPTION:A ICECCME – 3rd International Conference on Electrical\, Computer\, Communications and Mechatronics Engineering\, proporcionará um excelente fórum internacional para a divulgação de resultados de pesquisas originais\, novas ideias e experiências de desenvolvimento prático que se concentrem tanto na teoria quanto nas práticas de académicos\, investigadores\, engenheiros e também profissionais da indústria. \nICECCME 2023 realizar-se-á entre 19 e 20 de julho de 2023\, na Universidade de La Laguna\, em Santa Cruz de Tenerife\, Espanha. \nOs artigos aceites serão publicados em IEEE Xplore. \n  \nDATAS IMPORTANTES:\nSubmissão de artigos: 05 de março de 2023 \nSubmissão da versão final dos artigos aceites: 15 de maio de 2023 \n  \nTEMÁTICAS:\nOs tópicos da Conferência incluem (mas não estão limitados a): \nA) Electrical Energy Generation\, Transmission and Distribution \nB) Renewable Energy Systems \nC) Solar Technology \nD) Electrical Machines \nE) Power Electronics \nF) Computer Vision \nG) Artificial Intelligence \nH) Computer Networks \nI) Big Data \nJ) Signal Modelling for Audio-Visual Communication \nK) Machine Learning \nL) Telecommunication Systems \nM) Desalination \nN) Data Mining \nO) Digital Communication Systems \nP) Fiber-optic Communication \nQ) Mechatronics Engineering \nR) Advanced Manufacturing \nS) Intelligent Control \nT) Micro Mechatronics \nU) Mechatronics in Energy Systems \nV) Fault Detection and Diagnosis in Mechatronics Systems \nW) IoT and sensor networks \nX) Robotics and automation \nY) Engineering applications supporting the SDGs \n  \nPara informação detalhada e atualizada clique aqui.
URL:https://investigacao.islagaia.pt/event/iceccme-2023/
LOCATION:Universidade de La Laguna\, Espanha\, Calle Padre Herrera\, s/n\, Santa Cruz de Tenerife\, La Laguna\, 38200\, Espanha
CATEGORIES:Eventos
ATTACH;FMTTYPE=image/png:https://investigacao.islagaia.pt/wp-content/uploads/2022/11/Untitled-1-4.png
END:VEVENT
END:VCALENDAR