BEGIN:VCALENDAR
VERSION:2.0
PRODID:-//Centro de Investigação do ISLA-IPGT - ECPv6.15.20//NONSGML v1.0//EN
CALSCALE:GREGORIAN
METHOD:PUBLISH
X-ORIGINAL-URL:https://investigacao.islagaia.pt
X-WR-CALDESC:Eventos para Centro de Investigação do ISLA-IPGT
REFRESH-INTERVAL;VALUE=DURATION:PT1H
X-Robots-Tag:noindex
X-PUBLISHED-TTL:PT1H
BEGIN:VTIMEZONE
TZID:UTC
BEGIN:STANDARD
TZOFFSETFROM:+0000
TZOFFSETTO:+0000
TZNAME:UTC
DTSTART:20220101T000000
END:STANDARD
END:VTIMEZONE
BEGIN:VEVENT
DTSTART;TZID=UTC:20231113T090000
DTEND;TZID=UTC:20231116T200000
DTSTAMP:20260419T225209
CREATED:20230503T140614Z
LAST-MODIFIED:20230503T140614Z
UID:14248-1699866000-1700164800@investigacao.islagaia.pt
SUMMARY:CILAMCE 2023
DESCRIPTION:A CILAMCE 2023 – The XLIV Ibero-Latin American Congress on Computational Methods in Engineering\, é um encontro multidisciplinar\, projetado para discutir e explorar o estado da arte em métodos computacionais na engenharia. Cientistas e engenheiros de todas as áreas são incentivados a participar nesta conferência. \nA CILAMCE realizar-se-á entre 13 e 16 de novembro de 2023\, no Porto\, Portugal. \nDATAS IMPORTANTES:\nSubmissão do abstract: 25 de maio de 2023 \nNotificação de aceitação do abstract: 22 de junho de 2023 \nSubmissão do artigo: 12 de agosto de 2023 \nNotificação de aceitação do artigo: 07 de setembro de 2023 \n  \nPara informação detalhada e atualizada clique aqui.
URL:https://investigacao.islagaia.pt/event/cilamce-2023/
LOCATION:Porto\, Portugal\, Porto\, Portugal
CATEGORIES:Eventos
ATTACH;FMTTYPE=image/png:https://investigacao.islagaia.pt/wp-content/uploads/2023/05/wallpaper-conf-CILAMCE.png
END:VEVENT
BEGIN:VEVENT
DTSTART;TZID=UTC:20231116T090000
DTEND;TZID=UTC:20231117T200000
DTSTAMP:20260419T225209
CREATED:20230724T093627Z
LAST-MODIFIED:20230724T093627Z
UID:14581-1700125200-1700251200@investigacao.islagaia.pt
SUMMARY:ICECET'23
DESCRIPTION:A ICECET – 3rd International Conference on Electrical\, Computer and Energy Technologies\, é uma conferência multidisciplinar que proporcionará um excelente fórum internacional para investigadores\, académicos e profissionais da indústria\, divulgarem resultados de pesquisas originais\, apresentarem novas ideias e experiências relevantes. \nA ICECET realizar-se-á nos dias 16 e 17 de novembro de 2023\, em modo híbrido\, online e em Cape Town\, na África do Sul. \nOs artigos aceites serão publicados em IEEE Xplore. E os artigos apresentados serão indexados em Scopus. \n  \nDATAS IMPORTANTES:\nSubmissão de artigos: 07 de agosto de 2023 \nNotificação de aceitação: 27 de agosto de 2023 \nSubmissão final dos artigos aceites: 10 de setembro de 2023 \n  \nTEMÁTICAS:\nOs tópicos da Conferência incluem (mas não estão limitados a): \nA) Renewable energy systems \nB) Photovoltaic systems and solar energy \nC) Energy storage technologies and devices \nD) Energy transmission and distribution \nE) Power systems and automation \nF) Energy saving technologies \nG) Applied computer science \nH) Artificial Intelligence \nI) Computer based learning \nJ) Computer networks \nK) Human-computer interaction \nL) Computer architecture and embedded systems \nM) Software engineering \nN) Cyber physucal systems engineering \n  \nPara informação detalhada e atualizada clique aqui.
URL:https://investigacao.islagaia.pt/event/icecet23/
LOCATION:Cape Town\, África do Sul\, África do Sul
CATEGORIES:Eventos
ATTACH;FMTTYPE=image/webp:https://investigacao.islagaia.pt/wp-content/uploads/2023/07/wallpaper-ICECET.webp
END:VEVENT
END:VCALENDAR