BEGIN:VCALENDAR
VERSION:2.0
PRODID:-//Centro de Investigação do ISLA-IPGT - ECPv6.15.20//NONSGML v1.0//EN
CALSCALE:GREGORIAN
METHOD:PUBLISH
X-ORIGINAL-URL:https://investigacao.islagaia.pt
X-WR-CALDESC:Eventos para Centro de Investigação do ISLA-IPGT
REFRESH-INTERVAL;VALUE=DURATION:PT1H
X-Robots-Tag:noindex
X-PUBLISHED-TTL:PT1H
BEGIN:VTIMEZONE
TZID:UTC
BEGIN:STANDARD
TZOFFSETFROM:+0000
TZOFFSETTO:+0000
TZNAME:UTC
DTSTART:20220101T000000
END:STANDARD
END:VTIMEZONE
BEGIN:VEVENT
DTSTART;TZID=UTC:20230821T090000
DTEND;TZID=UTC:20230824T200000
DTSTAMP:20260420T095935
CREATED:20230504T085529Z
LAST-MODIFIED:20230620T105606Z
UID:14360-1692608400-1692907200@investigacao.islagaia.pt
SUMMARY:7th WORLDS4 2023
DESCRIPTION:A 7th WORLDS4 2023 – 7th World Conference on Smart Trends in Systems\, Security & Sustainability\, irá proporcionar aos participantes oportunidades para discutirem e explorarem temas relacionados com a área das Ciências da Interação. \nA WORLDS4 2023 realizar-se-á entre 21 e 24 de agosto de 2023\, no America Square Conference Centre\, em Londres\, Inglaterra \nOs artigos aceites serão publicados em conference proceedings pela Springer. E indexados pela SCOPUS\, INSPEC\, WTI Frankfurt eG\, zbMATH\, SCImago. \n  \nDATAS IMPORTANTES:\nSubmissão de artigos: 04 de julho de 2023 \n  \nTEMÁTICAS:\nOs tópicos da Conferência incluem: \nA) INFRASTRUCTURE AND COMPUTATION \nB) ENGINEERING APPLICATIONS \nC) E-GOVERNANCE AND GOVERNMENT \nD) INTELLIGENT SYSTEMS & HEALTH INFORMATICS \n  \nPara informação detalhada e atualizada clique aqui.
URL:https://investigacao.islagaia.pt/event/7th-worlds4-2023/
LOCATION:Londres\, Reino Unido\, 17\, One Crosswall\, America Square\, London EC3N 2LB\, Londres\, Reino Unido
CATEGORIES:Eventos
ATTACH;FMTTYPE=image/png:https://investigacao.islagaia.pt/wp-content/uploads/2023/05/wallpaper-conf-worlds4.png
END:VEVENT
END:VCALENDAR