BEGIN:VCALENDAR
VERSION:2.0
PRODID:-//Centro de Investigação do ISLA-IPGT - ECPv6.15.20//NONSGML v1.0//EN
CALSCALE:GREGORIAN
METHOD:PUBLISH
X-ORIGINAL-URL:https://investigacao.islagaia.pt
X-WR-CALDESC:Eventos para Centro de Investigação do ISLA-IPGT
REFRESH-INTERVAL;VALUE=DURATION:PT1H
X-Robots-Tag:noindex
X-PUBLISHED-TTL:PT1H
BEGIN:VTIMEZONE
TZID:UTC
BEGIN:STANDARD
TZOFFSETFROM:+0000
TZOFFSETTO:+0000
TZNAME:UTC
DTSTART:20220101T000000
END:STANDARD
END:VTIMEZONE
BEGIN:VEVENT
DTSTART;TZID=UTC:20230907T080000
DTEND;TZID=UTC:20230907T170000
DTSTAMP:20260420T043707
CREATED:20230503T083840Z
LAST-MODIFIED:20230503T141343Z
UID:14232-1694073600-1694106000@investigacao.islagaia.pt
SUMMARY:BIM Coordinators Summit 2023
DESCRIPTION:O Digital4OSH foi esta semana convidado\, pelo 2º ano consecutivo\, para realizar uma palestra temática no BIM Coordinators Summit 2023 (Dublin-Setembro 2023)\, um dos maiores eventos a nível mundial nesta área. \nO convite surge na sequência do sucesso da 1ª edição e confirma a pertinência das ações de Investigação & Desenvolvimento desenvolvidas por este Grupo de I&D liderado pelo ISLA Gaia. \nClique para saber mais sobre o BIM Coordinators Summit 2023
URL:https://investigacao.islagaia.pt/event/bim-coordinators-summit-2023/
LOCATION:Dublin\, Irlanda\, Anglesea Rd\, Ballsbridge\, Dublin 4\, D04 AK83\, Dublin\, Irlanda
CATEGORIES:Eventos
ATTACH;FMTTYPE=image/png:https://investigacao.islagaia.pt/wp-content/uploads/2023/05/wallpaper-bim-coordinators-summit.png
END:VEVENT
BEGIN:VEVENT
DTSTART;TZID=UTC:20230912T090000
DTEND;TZID=UTC:20230915T200000
DTSTAMP:20260420T043707
CREATED:20230620T095942Z
LAST-MODIFIED:20230620T095942Z
UID:14456-1694509200-1694808000@investigacao.islagaia.pt
SUMMARY:WMSCI 2023
DESCRIPTION:A WMSCI – 27th World Multi-Conference on Systemics\, Cybernetics and Informatics\, proporcionará um excelente fórum internacional de discussão e interação\, entre investigadores e engenheiros\, focados em questões\, ideias\, conceitos\, teorias\, metodologias e aplicações disciplinares\, interdisciplinares e transdisciplinares. Pretende-se fomentar a troca de conceitos\, protótipos\, ideias de pesquisa e outros resultados que possam contribuir para o campo académico e também beneficiar os negócios e a comunidade industrial. \nA WMSCI 2023 realizar-se-á entre 12 e 15 de setembro de 2023\, em Orlando\, Flórida\, nos Estados Unidos. \nOs artigos aceites serão publicados em Elsevier’s SCOPUS. \nEsta conferência realiza-se no formato presencial e virtual. \n  \nDATAS IMPORTANTES:\nSubmissão de abstracts: 01 de junho de 2023 \nNotificação de aceitação: 06 de julho de 2023 \nSubmissão da versão final dos artigos aceites: 10 de agosto de 2023 \n  \nTEMÁTICAS:\nOs tópicos da Conferência incluem (mas não estão limitados a): \nA) Information Systems\, Technologies and Applications \nB) Human Information Systems \nC) Computer Science and Engineering \nD) Communication and Network Systems\, Technologies and Applications \nE) Control Systems\, Technologies and Applications \nF) Image\, Acoustic\, Speech and Signal Processing \nG) Applications of Informatics and Cybernetics in Science and Engineering \nH) Systemics \nI) Concepts\, Principles\, Methodologies and Applications of Cybernetics \nJ) Ethics\, Cybernetics and Informatics \nK) Free/Open Source Software\, Technologies and Content \nL) Optical Systems\, Technologies and Applications \nM) Information and Communication Technologies \nN) Complexity: Complex Sciences and Systems \nO) Interdisciplinary Research\, Education\, and Communication \n  \nPara informação detalhada e atualizada clique aqui.
URL:https://investigacao.islagaia.pt/event/wmsci-2023/
LOCATION:Orlando\, Estados Unidos\, Orlando\, Flórida\, Estados Unidos
CATEGORIES:Eventos
ATTACH;FMTTYPE=image/webp:https://investigacao.islagaia.pt/wp-content/uploads/2023/06/wallpaper-wmsci.webp
END:VEVENT
BEGIN:VEVENT
DTSTART;TZID=UTC:20230921T090000
DTEND;TZID=UTC:20230922T200000
DTSTAMP:20260420T043707
CREATED:20230223T102214Z
LAST-MODIFIED:20230223T102347Z
UID:13721-1695286800-1695412800@investigacao.islagaia.pt
SUMMARY:ECIE 2023
DESCRIPTION:A ECIE – 18th European Conference on Innovation and Entrepreneurship\, é geralmente assistida por participantes de mais de 40 países e atrai uma combinação interessante de académicos\, profissionais e indivíduos que estão envolvidos em vários aspetos da inovação e ensino e pesquisa de empreendedorismo. \nEsta conferência sobre Inovação e Empreendedorismo\, realizar-se-á entre 21 e 22 de setembro de 2023\, na Universidade Portucalense\, Portugal. \nMarco Lamas\, professor adjunto do ISLA-IPGT integra a comissão científica desta conferência. \nAs comunicações apresentadas na conferência serão publicadas no livro de atas e poderão ser publicadas num conjunto de revistas científicas. \n  \nDATAS IMPORTANTES:\nSubmissão de artigos: 01 de março de 2023 \nNotificação de aceitação de artigos: 15 de março de 2023 \nSubmissão da versão final dos artigos aceites: 27 de julho de 2023 \n  \nTEMÁTICAS:\nOs tópicos da Conferência incluem (mas não estão limitados a): \nA) MANAGEMENT OF INNOVATION \nB) ECONOMICS OF INNOVATION AND ENTREPRENEURSHIP \nC) INNOVATION AND ENTREPRENEURSHIP FOR EDUCATORS \nD) INNOVATION AND ENTREPRENEURSHIP IN BUSINESS \nE) INTERNATIONAL INNOVATION AND ENTREPRENEURSHIP \nF) SOCIAL INNOVATION \nG) INNOVATION AND ENTREPRENEURSHIP IN MINORITY GROUPS \n  \nPara informação detalhada e atualizada clique aqui.
URL:https://investigacao.islagaia.pt/event/ecie-2023/
LOCATION:Universidade Portucalense\, Portugal\, R. Dr. António Bernardino de Almeida 541\, Porto\, Porto\, 4200-072\, Portugal
CATEGORIES:Eventos
ATTACH;FMTTYPE=image/png:https://investigacao.islagaia.pt/wp-content/uploads/2023/02/Background-ECIE.png
END:VEVENT
END:VCALENDAR