BEGIN:VCALENDAR
VERSION:2.0
PRODID:-//Centro de Investigação do ISLA-IPGT - ECPv6.15.20//NONSGML v1.0//EN
CALSCALE:GREGORIAN
METHOD:PUBLISH
X-ORIGINAL-URL:https://investigacao.islagaia.pt
X-WR-CALDESC:Eventos para Centro de Investigação do ISLA-IPGT
REFRESH-INTERVAL;VALUE=DURATION:PT1H
X-Robots-Tag:noindex
X-PUBLISHED-TTL:PT1H
BEGIN:VTIMEZONE
TZID:UTC
BEGIN:STANDARD
TZOFFSETFROM:+0000
TZOFFSETTO:+0000
TZNAME:UTC
DTSTART:20220101T000000
END:STANDARD
END:VTIMEZONE
BEGIN:VEVENT
DTSTART;TZID=UTC:20231102T090000
DTEND;TZID=UTC:20231104T200000
DTSTAMP:20260419T154215
CREATED:20230522T100528Z
LAST-MODIFIED:20230522T100613Z
UID:14399-1698915600-1699128000@investigacao.islagaia.pt
SUMMARY:ICOTTS'23
DESCRIPTION:A ICOTTS’23 – 5th International Conference on Tourism Technology & Systems\, é uma Conferência multidisciplinar\, transversal a todos os setores de atividade que envolvem Tecnologias e Sistemas de Informação na área do Turismo. \nA ICOTTS’23 realizar-se-á entre 02 e 04 de novembro de 2023\, na Universidade Politécnica de Bacalar\, em Bacalar\, México. \nOs artigos aceites serão submetidos para indexação em ISI\, EI-Compendex e SCOPUS. \n  \nDATAS IMPORTANTES:\nSubmissão de artigos: 15 de julho de 2023 \nNotificação de aceitação dos artigos: 31 de agosto de 2023 \nInscrição: 10 de setembro de 2023 \n  \nTEMÁTICAS:\nOs artigos a submeter deverão estar relacionados com um ou mais dos principais temas propostos para a Conferência: \nA) Tourism research in providing innovative solutions to social problems \nB) Information and communication technologies in hospitality and tourism industry \nC) Sustainable Tourism \nD) Tourism Trends \nE) Health and wellness Tourism \nF) Tourism Management \nG) Marketing strategies in hospitality and tourism industry \nH) Hospitality\, tourism\, and foodservice environment \nI) Tourism in the different scientific areas \nJ) eTourism and Tourism 2.0 \n  \nPara informação detalhada e atualizada clique aqui.
URL:https://investigacao.islagaia.pt/event/icotts23/
LOCATION:Bacalar\, Mexico\, Av. 39 entre calle 50 y 54\, 77930 Bacalar\, Q.R.\, Bacalar\, México
CATEGORIES:Eventos
ATTACH;FMTTYPE=image/png:https://investigacao.islagaia.pt/wp-content/uploads/2023/05/wallpaper-ICOTTS23.png
END:VEVENT
BEGIN:VEVENT
DTSTART;TZID=UTC:20231108T190000
DTEND;TZID=UTC:20231109T210000
DTSTAMP:20260419T154215
CREATED:20231109T103930Z
LAST-MODIFIED:20231109T103930Z
UID:14956-1699470000-1699563600@investigacao.islagaia.pt
SUMMARY:Semana da Qualidade
DESCRIPTION:O ISLA – Instituto Politécnico de Gestão e Tecnologia vai promover a Semana da Qualidade no início de novembro\, dinamizando eventos associados à comemoração do Dia Mundial da Qualidade. \nEsta efeméride comemora-se na segunda quinta-feira de novembro de cada ano e foi instituída pela ONU para enfatizar a importância da qualidade para a satisfação\, produtividade\, competitividade\, desenvolvimento e prosperidade das populações\, organizações e sociedades modernas como um todo. \nO ISLA subscreve esta importância e associa-se promovendo duas iniciativas alusivas à temática. A saber: \n  \nDia 8 de novembro » Aula Aberta –  Apresentação de Software de Gestão da qualidade – Quality365 \nEsta aula aberta é de acesso livre e pode ser acompanhada fisicamente nas instalações do ISLA na Sala 1.10 ou online através da Plataforma Zoom. \nClique para ver cartaz do evento \n  \n Dia 9 de novembro » Conferência Alusiva ao Dia Mundial da Qualidade – Desafios e oportunidades da qualidade para as organizações \nEsta conferência é de acesso livre e apenas será realizada no formato presencial. Decorrerá no Auditório do ISLA. \nClique para ver cartaz do evento
URL:https://investigacao.islagaia.pt/event/semana-da-qualidade/
LOCATION:ISLA Gaia\, Portugal\, Rua Diogo Macedo n.º 192 |\, Vila Nova de Gaia\, Porto\, 4400-107\, Portugal
CATEGORIES:Eventos
ATTACH;FMTTYPE=image/png:https://investigacao.islagaia.pt/wp-content/uploads/2023/11/SemanaQualidade-banner.png
END:VEVENT
BEGIN:VEVENT
DTSTART;TZID=UTC:20231113T090000
DTEND;TZID=UTC:20231116T200000
DTSTAMP:20260419T154215
CREATED:20230503T140614Z
LAST-MODIFIED:20230503T140614Z
UID:14248-1699866000-1700164800@investigacao.islagaia.pt
SUMMARY:CILAMCE 2023
DESCRIPTION:A CILAMCE 2023 – The XLIV Ibero-Latin American Congress on Computational Methods in Engineering\, é um encontro multidisciplinar\, projetado para discutir e explorar o estado da arte em métodos computacionais na engenharia. Cientistas e engenheiros de todas as áreas são incentivados a participar nesta conferência. \nA CILAMCE realizar-se-á entre 13 e 16 de novembro de 2023\, no Porto\, Portugal. \nDATAS IMPORTANTES:\nSubmissão do abstract: 25 de maio de 2023 \nNotificação de aceitação do abstract: 22 de junho de 2023 \nSubmissão do artigo: 12 de agosto de 2023 \nNotificação de aceitação do artigo: 07 de setembro de 2023 \n  \nPara informação detalhada e atualizada clique aqui.
URL:https://investigacao.islagaia.pt/event/cilamce-2023/
LOCATION:Porto\, Portugal\, Porto\, Portugal
CATEGORIES:Eventos
ATTACH;FMTTYPE=image/png:https://investigacao.islagaia.pt/wp-content/uploads/2023/05/wallpaper-conf-CILAMCE.png
END:VEVENT
BEGIN:VEVENT
DTSTART;TZID=UTC:20231116T090000
DTEND;TZID=UTC:20231117T200000
DTSTAMP:20260419T154215
CREATED:20230724T093627Z
LAST-MODIFIED:20230724T093627Z
UID:14581-1700125200-1700251200@investigacao.islagaia.pt
SUMMARY:ICECET'23
DESCRIPTION:A ICECET – 3rd International Conference on Electrical\, Computer and Energy Technologies\, é uma conferência multidisciplinar que proporcionará um excelente fórum internacional para investigadores\, académicos e profissionais da indústria\, divulgarem resultados de pesquisas originais\, apresentarem novas ideias e experiências relevantes. \nA ICECET realizar-se-á nos dias 16 e 17 de novembro de 2023\, em modo híbrido\, online e em Cape Town\, na África do Sul. \nOs artigos aceites serão publicados em IEEE Xplore. E os artigos apresentados serão indexados em Scopus. \n  \nDATAS IMPORTANTES:\nSubmissão de artigos: 07 de agosto de 2023 \nNotificação de aceitação: 27 de agosto de 2023 \nSubmissão final dos artigos aceites: 10 de setembro de 2023 \n  \nTEMÁTICAS:\nOs tópicos da Conferência incluem (mas não estão limitados a): \nA) Renewable energy systems \nB) Photovoltaic systems and solar energy \nC) Energy storage technologies and devices \nD) Energy transmission and distribution \nE) Power systems and automation \nF) Energy saving technologies \nG) Applied computer science \nH) Artificial Intelligence \nI) Computer based learning \nJ) Computer networks \nK) Human-computer interaction \nL) Computer architecture and embedded systems \nM) Software engineering \nN) Cyber physucal systems engineering \n  \nPara informação detalhada e atualizada clique aqui.
URL:https://investigacao.islagaia.pt/event/icecet23/
LOCATION:Cape Town\, África do Sul\, África do Sul
CATEGORIES:Eventos
ATTACH;FMTTYPE=image/webp:https://investigacao.islagaia.pt/wp-content/uploads/2023/07/wallpaper-ICECET.webp
END:VEVENT
BEGIN:VEVENT
DTSTART;TZID=UTC:20231124T140000
DTEND;TZID=UTC:20231124T213000
DTSTAMP:20260419T154215
CREATED:20231020T104827Z
LAST-MODIFIED:20240119T170522Z
UID:14683-1700834400-1700861400@investigacao.islagaia.pt
SUMMARY:Dia da Ciência 2023
DESCRIPTION:No passado dia 24 de novembro\, o Centro de Investigação do ISLA Gaia promoveu a 2ª edição do “Dia da Ciência”. Este evento abrangeu um conjunto de iniciativas com o objetivo de incentivar a comunidade ISLA a participar no desenvolvimento científico. \nOs short-papers e os resumos deverão ser remetidos\, em formato digital (Formato MS Word (.doc) ou Adobe Acrobat (.pdf) por correio eletrónico para concursoposter@islagaia.pt até ao final do dia 10/11/2023\, juntamente com a identificação do(s) estudante(s) e do curso: nome(s) completo(s)\, contacto(s) telefónico(s)\, e endereço(s) eletrónico(s)\, bem como a designação do curso. \n\nPOSTER PREMIADOS:\nConsulte os posters premiados \n  \nDATAS IMPORTANTES: \nSubmissão dos Short-Papers e dos Posters: até dia 10 de novembro de 2023 \nNotificação do parecer de avaliação: 21 de novembro de 2023 \nDia da Ciência: 24 de novembro de 2023 \n  \nMODELOS:  \nConsulte os modelos do Short Paper e do Poster. \n  \nREGULAMENTOS:  \nConsulte o regulamento em PT para os diferentes graus académicos: \nRegulamento de Apresentação de Posters para os Estudantes de CTeSP \nRegulamento de Apresentação de Posters para os Estudantes de Licenciatura \nRegulamento de Apresentação de Posters para os Estudantes de Mestrado \nRegulamento de Apresentação de Posters para os Estudantes de Pós-Graduação \n  \nConsulte os Posters da 1ª Edição do Dia da Ciência. \nPara mais informações consulte o cartaz do evento. \n  \n  \n 
URL:https://investigacao.islagaia.pt/event/dia-da-ciencia-2023/
LOCATION:ISLA Gaia\, Portugal\, Rua Diogo Macedo n.º 192 |\, Vila Nova de Gaia\, Porto\, 4400-107\, Portugal
CATEGORIES:Eventos
ATTACH;FMTTYPE=image/png:https://investigacao.islagaia.pt/wp-content/uploads/2023/10/CienciaA_DiaCiencia_Cartaz.png
END:VEVENT
BEGIN:VEVENT
DTSTART;TZID=UTC:20231130T090000
DTEND;TZID=UTC:20231201T200000
DTSTAMP:20260419T154215
CREATED:20230522T114650Z
LAST-MODIFIED:20230522T114650Z
UID:14403-1701334800-1701460800@investigacao.islagaia.pt
SUMMARY:ICED'23
DESCRIPTION:A ICED – 5th International Conference on the Economics of the Decoupling\, proporcionará um excelente fórum internacional para a divulgação de resultados de pesquisas originais\, novas ideias e experiências de desenvolvimento prático que se concentrem tanto na teoria quanto nas práticas de académicos\, investigadores\, engenheiros e também profissionais da indústria. \nA ICED 2023 realizar-se-á entre 30 de novembro e 1 de dezembro de 2023\, na Universidade de Zagreb\, Croácia. \nOs artigos aceites serão publicados em Electronic Conference Proceedings. \n  \nDATAS IMPORTANTES:\nSubmissão de abstracts: 05 de março de 2023 \nSubmissão da versão final dos artigos aceites: 31 de dezembro de 2023 \n  \nTEMÁTICAS:\nOs tópicos da Conferência incluem (mas não estão limitados a): \nA) Economic Growth and Natural Resources \nB) Energy Economics \nC) Environment Economics \nD) Regulatory Economics \nE) Waste Management \nF) Water Economics \nG) Circular Economy \nH) Green Economy \nI) Digital Economy \nJ) Ecological Economics \nK) Bio Economics \n  \nPara informação detalhada e atualizada clique aqui.
URL:https://investigacao.islagaia.pt/event/iced23/
LOCATION:Zagreb\, Croácia\, Trg John F. Kennedy 6\, 10000\, Zagreb\, Croácia (Nome local: Hrvatska)
CATEGORIES:Eventos
ATTACH;FMTTYPE=image/png:https://investigacao.islagaia.pt/wp-content/uploads/2023/05/wallpaper-ICED23.png
END:VEVENT
END:VCALENDAR